BEGIN:VCALENDAR
PRODID:-//Microsoft Corporation//Outlook 16.0 MIMEDIR//EN
VERSION:2.0
METHOD:REQUEST
X-MS-OLK-FORCEINSPECTOROPEN:TRUE
BEGIN:VEVENT
ATTENDEE;CN="Ran Maymon";RSVP=TRUE:mailto:Ran@cms1.co.il
CLASS:PUBLIC
CREATED:20210707T124617Z
DESCRIPTION:אג’נדה\n\n10:00-10:30 – Azure Virtual Desktop מעבר
	 על פתרון \n10:30-11:15 – הטמעה טכנית של השירות
	 + דמו\n11:15-12:30 – מעבר על מחירים\, שאלות ותש
	ובות\n\n \n\n_________________________________________________________
	_______________________ \n\nMicrosoft Teams meeting \n\nJoin on your compu
	ter or mobile app \n\nClick here to join the meeting <https://teams.micros
	oft.com/l/meetup-join/19%3ameeting_MjM4ODkzYWMtNzM1ZC00YzFmLTgxOGItNmE1NWN
	lZWYzMTc5%40thread.v2/0?context=%7b%22Tid%22%3a%22a919fb3b-f04c-48be-b0d3-
	8fbf86fd86e7%22%2c%22Oid%22%3a%2217af21a4-8d2c-4e3f-9bc7-66c3e3bd5cc2%22%7
	d>  \n\nLearn More <https://aka.ms/JoinTeamsMeeting>  | Meeting options <h
	ttps://teams.microsoft.com/meetingOptions/?organizerId=17af21a4-8d2c-4e3f-
	9bc7-66c3e3bd5cc2&tenantId=a919fb3b-f04c-48be-b0d3-8fbf86fd86e7&threadId=1
	9_meeting_MjM4ODkzYWMtNzM1ZC00YzFmLTgxOGItNmE1NWNlZWYzMTc5@thread.v2&messa
	geId=0&language=en-US>  \n\n______________________________________________
	__________________________________ \n\n \n\n
DTEND;VALUE=DATE:20210811
DTSTAMP:20210707T124547Z
DTSTART;VALUE=DATE:20210810
LAST-MODIFIED:20210707T124617Z
LOCATION:Microsoft Teams Meeting
ORGANIZER;CN="Dean Ovadia":mailto:dean@cms1.co.il
PRIORITY:5
SEQUENCE:0
SUMMARY;LANGUAGE=en-us:Azure Virtual Desktop Workshop
TRANSP:TRANSPARENT
UID:040000008200E00074C5B7101A82E008000000006051DFF44673D701000000000000000
	010000000A4096B5BE92C6840BD41093524DBD6E0
X-ALT-DESC;FMTTYPE=text/html:<html xmlns:v="urn:schemas-microsoft-com:vml" 
	xmlns:o="urn:schemas-microsoft-com:office:office" xmlns:w="urn:schemas-mic
	rosoft-com:office:word" xmlns:m="http://schemas.microsoft.com/office/2004/
	12/omml" xmlns="http://www.w3.org/TR/REC-html40"><head><meta name=Generato
	r content="Microsoft Word 15 (filtered medium)"><style><!--\n/* Font Defin
	itions */\n@font-face\n	{font-family:"Cambria Math"\;\n	panose-1:2 4 5 3 5
	 4 6 3 2 4\;}\n@font-face\n	{font-family:Calibri\;\n	panose-1:2 15 5 2 2 2
	 4 3 2 4\;}\n@font-face\n	{font-family:"Segoe UI"\;\n	panose-1:2 11 5 2 4 
	2 4 2 2 3\;}\n@font-face\n	{font-family:"Segoe UI Semibold"\;\n	panose-1:2
	 11 7 2 4 2 4 2 2 3\;}\n/* Style Definitions */\np.MsoNormal\, li.MsoNorma
	l\, div.MsoNormal\n	{margin:0in\;\n	font-size:11.0pt\;\n	font-family:"Cali
	bri"\,sans-serif\;}\na:link\, span.MsoHyperlink\n	{mso-style-priority:99\;
	\n	color:#0563C1\;\n	text-decoration:underline\;}\nspan.EmailStyle17\n	{ms
	o-style-type:personal-compose\;\n	font-family:"Calibri"\,sans-serif\;\n	co
	lor:windowtext\;}\n.MsoChpDefault\n	{mso-style-type:export-only\;\n	font-f
	amily:"Calibri"\,sans-serif\;}\n@page WordSection1\n	{size:8.5in 11.0in\;\
	n	margin:1.0in 1.0in 1.0in 1.0in\;}\ndiv.WordSection1\n	{page:WordSection1
	\;}\n--></style><!--[if gte mso 9]><xml>\n<o:shapedefaults v:ext="edit" sp
	idmax="1026" />\n</xml><![endif]--><!--[if gte mso 9]><xml>\n<o:shapelayou
	t v:ext="edit">\n<o:idmap v:ext="edit" data="1" />\n</o:shapelayout></xml>
	<![endif]--></head><body lang=EN-US link="#0563C1" vlink="#954F72" style='
	word-wrap:break-word'><div class=WordSection1><p class=MsoNormal align=rig
	ht style='text-align:right\;line-height:14.4pt'><b><u><span lang=HE dir=RT
	L style='font-size:14.0pt\;color:black'>אג’נדה</span></u></b><b><u>
	<span style='font-size:14.0pt\;color:black'><o:p></o:p></span></u></b></p>
	<p class=MsoNormal align=right style='text-align:right\;line-height:16.8pt
	'><span style='color:black'>10:00-10:30 – Azure Virtual Desktop <span la
	ng=HE dir=RTL>מעבר על פתרון</span><span dir=LTR></span><span di
	r=LTR></span><span lang=HE><span dir=LTR></span><span dir=LTR></span> </sp
	an><br>10:30-11:15 – <span lang=HE dir=RTL>הטמעה טכנית של ה
	שירות + דמו</span><br>11:15-12:30 – <span lang=HE dir=RTL>מעב
	ר על מחירים\, שאלות ותשובות</span><o:p></o:p></span><
	/p><p class=MsoNormal><o:p>&nbsp\;</o:p></p><div><p class=MsoNormal><span 
	style='color:#5F5F5F'>____________________________________________________
	____________________________</span> <o:p></o:p></p></div><div><div style='
	margin-top:.25in\;margin-bottom:15.0pt'><p class=MsoNormal><span style='fo
	nt-size:18.0pt\;font-family:"Segoe UI"\,sans-serif\;color:#252424'>Microso
	ft Teams meeting</span><span style='font-family:"Segoe UI"\,sans-serif\;co
	lor:#252424'> <o:p></o:p></span></p></div><div style='margin-bottom:15.0pt
	'><div><p class=MsoNormal><b><span style='font-size:10.5pt\;font-family:"S
	egoe UI"\,sans-serif\;color:#252424'>Join on your computer or mobile app</
	span></b><b><span style='font-family:"Segoe UI"\,sans-serif\;color:#252424
	'> <o:p></o:p></span></b></p></div><p class=MsoNormal><span style='font-fa
	mily:"Segoe UI"\,sans-serif\;color:#252424'><a href="https://teams.microso
	ft.com/l/meetup-join/19%3ameeting_MjM4ODkzYWMtNzM1ZC00YzFmLTgxOGItNmE1NWNl
	ZWYzMTc5%40thread.v2/0?context=%7b%22Tid%22%3a%22a919fb3b-f04c-48be-b0d3-8
	fbf86fd86e7%22%2c%22Oid%22%3a%2217af21a4-8d2c-4e3f-9bc7-66c3e3bd5cc2%22%7d
	" target="_blank"><span style='font-size:10.5pt\;font-family:"Segoe UI Sem
	ibold"\,sans-serif\;color:#6264A7'>Click here to join the meeting</span></
	a> <o:p></o:p></span></p></div><div style='margin-top:15.0pt\;margin-botto
	m:.25in'><p class=MsoNormal><span style='font-family:"Segoe UI"\,sans-seri
	f\;color:#252424'><a href="https://aka.ms/JoinTeamsMeeting" target="_blank
	"><span style='font-size:10.5pt\;color:#6264A7'>Learn More</span></a> | <a
	 href="https://teams.microsoft.com/meetingOptions/?organizerId=17af21a4-8d
	2c-4e3f-9bc7-66c3e3bd5cc2&amp\;tenantId=a919fb3b-f04c-48be-b0d3-8fbf86fd86
	e7&amp\;threadId=19_meeting_MjM4ODkzYWMtNzM1ZC00YzFmLTgxOGItNmE1NWNlZWYzMT
	c5@thread.v2&amp\;messageId=0&amp\;language=en-US" target="_blank"><span s
	tyle='font-size:10.5pt\;color:#6264A7'>Meeting options</span></a> <o:p></o
	:p></span></p></div></div><div><p class=MsoNormal><span style='color:#5F5F
	5F'>______________________________________________________________________
	__________</span> <o:p></o:p></p></div><p class=MsoNormal><o:p>&nbsp\;</o:
	p></p></div></body></html>
X-MICROSOFT-CDO-BUSYSTATUS:FREE
X-MICROSOFT-CDO-IMPORTANCE:1
X-MICROSOFT-DISALLOW-COUNTER:FALSE
X-MS-OLK-APPTSEQTIME:20210707T124547Z
X-MS-OLK-AUTOFILLLOCATION:FALSE
X-MS-OLK-CONFTYPE:0
BEGIN:VALARM
TRIGGER:-PT1080M
ACTION:DISPLAY
DESCRIPTION:Reminder
END:VALARM
END:VEVENT
END:VCALENDAR
